BEGIN:VCALENDAR
VERSION:2.0
PRODID:-//Shooting Star Adventures - ECPv6.15.20//NONSGML v1.0//EN
CALSCALE:GREGORIAN
METHOD:PUBLISH
X-WR-CALNAME:Shooting Star Adventures
X-ORIGINAL-URL:https://shootingstaradventures.org
X-WR-CALDESC:Events for Shooting Star Adventures
REFRESH-INTERVAL;VALUE=DURATION:PT1H
X-Robots-Tag:noindex
X-PUBLISHED-TTL:PT1H
BEGIN:VTIMEZONE
TZID:America/Los_Angeles
BEGIN:DAYLIGHT
TZOFFSETFROM:-0800
TZOFFSETTO:-0700
TZNAME:PDT
DTSTART:20250309T100000
END:DAYLIGHT
BEGIN:STANDARD
TZOFFSETFROM:-0700
TZOFFSETTO:-0800
TZNAME:PST
DTSTART:20251102T090000
END:STANDARD
BEGIN:DAYLIGHT
TZOFFSETFROM:-0800
TZOFFSETTO:-0700
TZNAME:PDT
DTSTART:20260308T100000
END:DAYLIGHT
BEGIN:STANDARD
TZOFFSETFROM:-0700
TZOFFSETTO:-0800
TZNAME:PST
DTSTART:20261101T090000
END:STANDARD
BEGIN:DAYLIGHT
TZOFFSETFROM:-0800
TZOFFSETTO:-0700
TZNAME:PDT
DTSTART:20270314T100000
END:DAYLIGHT
BEGIN:STANDARD
TZOFFSETFROM:-0700
TZOFFSETTO:-0800
TZNAME:PST
DTSTART:20271107T090000
END:STANDARD
END:VTIMEZONE
BEGIN:VEVENT
DTSTART;TZID=America/Los_Angeles:20260622T000000
DTEND;TZID=America/Los_Angeles:20260626T235959
DTSTAMP:20260423T124849
CREATED:20241225T190556Z
LAST-MODIFIED:20260114T202540Z
UID:4090-1782086400-1782518399@shootingstaradventures.org
SUMMARY:OHDAKA - 2026 Nature Day Camp
DESCRIPTION:Nature DAYCAMP 2026\n\nEmbark on a summer adventure like no other! Each day at OHDAKA is the perfect blend of outdoor exploration\, wilderness skill-building\, and nature-inspired fun for your adventurer. Join us for a week of nature-infused excitement\, where each day brings new discoveries and opportunities for growth and friendship. Secure a spot now for an unforgettable summer experience! \n\nDate – June 22-26\, 2026- 9am-3:30pm\nAges – 4-15; Junior Counselors option for ages (13-15)\nLocation – Oxbow Regional Park – 3010 SE Oxbow Parkway\, Gresham\nCost – $350 (includes required bus transportation fee)\nFinancial Aid – must register with a deposit by May 15th AND fill out the financial aid application to be eligible. See our Financial Aid page for more details.\nRegistration – Open Now\n\nLearn More \nMini Stars🌟: Little Explorers! ages 4-6\nFor ages 4-6\, Mini Stars sparks curiosity\, creativity\, and teamwork. Through songs\, crafts\, and games\, preschoolers explore the outdoors\, develop motor skills\, and discover the wonders of nature in a nurturing environment. \nPlanet Pioneers🌿: Nature Awaits! ages 7-8\nFor school-aged adventurers\, Planet Pioneers grow their knowledge\, skills\, and confidence. Engaging activities challenge their minds\, boost social interactions\, and encourage personal growth. \nComet Crew🔭: Summer Adventure Awaits! ages 9-12\nDesigned for tweens\, Comet Crew offers exciting activities like team-building challenges\, nature hikes\, and workshops. Explore new skills\, build friendships\, and create lasting memories in this action-packed group. \nGalaxy Guides🌌: Lead the Way! ages 13-15\nTeens\, step into leadership with our Junior Counselor Internship! Plan activities\, support younger campers\, and develop skills like teamwork and problem-solving while making lasting memories.
URL:https://shootingstaradventures.org/event/ohdaka2026
LOCATION:Oxbow Regional Park\, 3010 SE Oxbow Parkway\, Gresham\, OR\, 97080\, United States
CATEGORIES:Day Camp,Early Childhood,Summer Camp
ATTACH;FMTTYPE=image/jpeg:https://shootingstaradventures.org/wp-content/uploads/2024/12/Ohdaka.jpg
ORGANIZER;CN="Shooting Star Adventures":MAILTO:info@shootingstaradventures.org
END:VEVENT
BEGIN:VEVENT
DTSTART;TZID=America/Los_Angeles:20260809T000000
DTEND;TZID=America/Los_Angeles:20260814T235959
DTSTAMP:20260423T124849
CREATED:20251108T212251Z
LAST-MODIFIED:20260115T200057Z
UID:4614-1786233600-1786751999@shootingstaradventures.org
SUMMARY:C2R2026
DESCRIPTION:🌠 Choose Your Path. Define Your Adventure. \nCamp Two Roads 2026 — Where Your Journey Grows!\nAugust 9–14\, 2026 \n🌞 Calling all adventurous girls! Ready for a week filled with courage\, creativity\, and unforgettable memories? Camp Two Roads — the Portland Metro’s all-girls summer camp — returns for its 8th incredible season! Join us for a week packed with outdoor fun\, new challenges\, and friendships that last long after summer ends. \nAt Camp Two Roads\, girls explore their independence\, discover their strengths\, and cheer one another on through every adventure. \n\n🌟 Summer Camp Highlights\n🏕️ Outdoor Skills & Adventure\nBuild confidence with challenge course elements\, hands-on campfire cooking\, outdoor skill building\, fishing\, and crafting you’ll use long after camp is over. \n🌊 Water Fun\nBeat the heat with swimming\, canoeing\, and creek exploration — splash-filled adventures perfect for curious minds and bold spirits. \n🎨 Arts & Creativity\nPaint\, craft\, design\, and let your imagination take center stage in our open-air craft spaces. \n🤸‍♀️ Physical Challenges\nPush your limits on the ropes course\, tackle teamwork challenges\, and soar across the creek on our legendary zipline. \n🔥 Campfire Magic\nEnd each night with songs\, skits (yes… at least one about chickens)\, talent shows\, and moments of connection under the stars. \n\n💫 Why Camp Two Roads?\nSince 2019\, Camp Two Roads has been a trusted summer experience for girls seeking adventure\, mentorship\, joy\, and growth. Our passionate counselors create a welcoming environment where girls can: \n✅ Try new things\n✅ Build resilience and confidence\n✅ Grow as leaders\n✅ Form meaningful friendships\n✅ Find their voice \nWhether you’re a returning family or exploring camp for the first time\, Shooting Star Adventures provides a safe\, supportive space where girls can shine. \n\n🏕️ Your Adventure Begins Here\nIf you’re a parent ready to give your camper unforgettable memories — or a girl eager to take on new challenges — Camp Two Roads is ready to welcome you. \nJoin us for our 8th year of girl-powered camp magic! \n\n🌠 Empowering Girls. Unleashing Potential. 🌠 \n📅 General Registration now open\nVisit our Camp Two Roads page for details and registration.
URL:https://shootingstaradventures.org/event/camp-two-roads-2026/
LOCATION:Camp Yamhill\, 19651 NW Old Railroad Grade Rd\, Yamhill\, OR 97148\, United States\, Yamhill\, OR\, 97148\, United States
CATEGORIES:Summer Camp
ATTACH;FMTTYPE=image/png:https://shootingstaradventures.org/wp-content/uploads/2025/11/2026-Flyers-Square-3.png
ORGANIZER;CN="Camp Two Roads":MAILTO:c2r@shootingstaradventures.org
END:VEVENT
END:VCALENDAR