BEGIN:VCALENDAR
VERSION:2.0
PRODID:-//Shooting Star Adventures - ECPv6.15.20//NONSGML v1.0//EN
CALSCALE:GREGORIAN
METHOD:PUBLISH
X-WR-CALNAME:Shooting Star Adventures
X-ORIGINAL-URL:https://shootingstaradventures.org
X-WR-CALDESC:Events for Shooting Star Adventures
REFRESH-INTERVAL;VALUE=DURATION:PT1H
X-Robots-Tag:noindex
X-PUBLISHED-TTL:PT1H
BEGIN:VTIMEZONE
TZID:America/Los_Angeles
BEGIN:DAYLIGHT
TZOFFSETFROM:-0800
TZOFFSETTO:-0700
TZNAME:PDT
DTSTART:20240310T100000
END:DAYLIGHT
BEGIN:STANDARD
TZOFFSETFROM:-0700
TZOFFSETTO:-0800
TZNAME:PST
DTSTART:20241103T090000
END:STANDARD
BEGIN:DAYLIGHT
TZOFFSETFROM:-0800
TZOFFSETTO:-0700
TZNAME:PDT
DTSTART:20250309T100000
END:DAYLIGHT
BEGIN:STANDARD
TZOFFSETFROM:-0700
TZOFFSETTO:-0800
TZNAME:PST
DTSTART:20251102T090000
END:STANDARD
BEGIN:DAYLIGHT
TZOFFSETFROM:-0800
TZOFFSETTO:-0700
TZNAME:PDT
DTSTART:20260308T100000
END:DAYLIGHT
BEGIN:STANDARD
TZOFFSETFROM:-0700
TZOFFSETTO:-0800
TZNAME:PST
DTSTART:20261101T090000
END:STANDARD
END:VTIMEZONE
BEGIN:VEVENT
DTSTART;TZID=America/Los_Angeles:20250810T000000
DTEND;TZID=America/Los_Angeles:20250815T235959
DTSTAMP:20260423T142149
CREATED:20241225T184246Z
LAST-MODIFIED:20241226T162941Z
UID:4086-1754784000-1755302399@shootingstaradventures.org
SUMMARY:C2R2025 - All Girls Summer Camp
DESCRIPTION:🌠Choose Your Path. Define Your Adventure.🌠 \nCamp Two Roads 2025 – Where Your Journey Begins!\n  \n\n🌟 Calling all adventurous girls! 🌞 Ready to step into a week of fun\, growth\, and lasting friendships? Camp Two Roads and All Girls Summer Camp is back for its 7th amazing year! This is your chance to experience a week full of excitement\, self-discovery\, and new challenges\, surrounded by a supportive community of girls just like you. At Camp Two Roads\, we empower girls to embrace their courage\, independence\, and leadership in a fun and inspiring environment. \nSummer Camp Highlights:\n🏕️ Outdoor Adventures: Build confidence with campfire cooking\, fishing\, fire building\, and more – perfect skills for your next family camping trip. \n🌊 Water Fun: Stay cool while swimming\, canoeing\, and exploring creek walks\, all while diving into a world of aquatic fun. \n🎨 Creative Arts: Express yourself through arts and crafts\, painting\, and storytelling under the stars\, bringing your creativity to life. \n🤸‍♀️ Physical Challenges: Strengthen your body and spirit as you conquer ropes courses\, teamwork challenges\, and our legendary zipline across the creek. \n🌟 Campfire Magic: Gather with new friends around the campfire for talent shows\, heartwarming stories\, and songs about chickens\, celebrating the spirit of sisterhood. \nWhy Camp Two Roads? Since 2019\, C2R has been the go-to summer camp for girls in the Portland Metro area seeking adventure and growth. Our dedicated counselors create a safe\, inclusive space where you can try new things\, make lifelong memories\, and build your confidence. We believe in providing experiences that empower girls to unlock their full potential\, strengthen resilience\, and forge deep friendships. \nWhether you’re a parent ready to help your daughter make unforgettable memories or a girl eager to embrace new adventures\, Shooting Star Adventures is waiting for you. Join us for our 7th year of girl-powered adventures\, growth\, and fun! \nGet ready to shine at Camp Two Roads\, where every girl writes her own remarkable story. \n🌠 Empowering Girls. Unleashing Potential. 🌠 \nGeneral Registration begins October 1st. For more details and to register\, visit our Camp Two Roads page. \nFor more camp highlights\, follow us on your favorite social media! \n\n\nFacebook\nInstagram\nPinterest
URL:https://shootingstaradventures.org/event/c2r2025/
LOCATION:Camp Yamhill\, 19651 NW Old Railroad Grade Rd\, Yamhill\, OR 97148\, United States\, Yamhill\, OR\, 97148\, United States
CATEGORIES:Events,Summer Camp
ATTACH;FMTTYPE=image/png:https://shootingstaradventures.org/wp-content/uploads/2024/12/2025-Flyers-Instagram-Post.png
ORGANIZER;CN="Camp Two Roads":MAILTO:c2r@shootingstaradventures.org
END:VEVENT
END:VCALENDAR